BEGIN:VCALENDAR
VERSION:2.0
PRODID:-//Daniel Seeger - ECPv6.15.14//NONSGML v1.0//EN
CALSCALE:GREGORIAN
METHOD:PUBLISH
X-WR-CALNAME:Daniel Seeger
X-ORIGINAL-URL:https://daniel-seeger.de
X-WR-CALDESC:Veranstaltungen für Daniel Seeger
REFRESH-INTERVAL;VALUE=DURATION:PT1H
X-Robots-Tag:noindex
X-PUBLISHED-TTL:PT1H
BEGIN:VTIMEZONE
TZID:Europe/Berlin
BEGIN:DAYLIGHT
TZOFFSETFROM:+0100
TZOFFSETTO:+0200
TZNAME:CEST
DTSTART:20250330T010000
END:DAYLIGHT
BEGIN:STANDARD
TZOFFSETFROM:+0200
TZOFFSETTO:+0100
TZNAME:CET
DTSTART:20251026T010000
END:STANDARD
BEGIN:DAYLIGHT
TZOFFSETFROM:+0100
TZOFFSETTO:+0200
TZNAME:CEST
DTSTART:20260329T010000
END:DAYLIGHT
BEGIN:STANDARD
TZOFFSETFROM:+0200
TZOFFSETTO:+0100
TZNAME:CET
DTSTART:20261025T010000
END:STANDARD
BEGIN:DAYLIGHT
TZOFFSETFROM:+0100
TZOFFSETTO:+0200
TZNAME:CEST
DTSTART:20270328T010000
END:DAYLIGHT
BEGIN:STANDARD
TZOFFSETFROM:+0200
TZOFFSETTO:+0100
TZNAME:CET
DTSTART:20271031T010000
END:STANDARD
END:VTIMEZONE
BEGIN:VEVENT
DTSTART;TZID=Europe/Berlin:20260430T193000
DTEND;TZID=Europe/Berlin:20260430T203000
DTSTAMP:20260420T171449
CREATED:20260326T124334Z
LAST-MODIFIED:20260418T220650Z
UID:1171-1777577400-1777581000@daniel-seeger.de
SUMMARY:Konzertexamen Orgel
DESCRIPTION:Alex Potter – Altus | Felicia Graf und Csenge Orgován – Violine | Sarah Jensen – Viola | Hannah Voß – Fagott | Daniel Seeger – Orgel
URL:https://daniel-seeger.de/termin/konzertexamen/
LOCATION:St. Wilhadi Stade\, Wilhadikirchhof 12\, 21682 Stade
END:VEVENT
BEGIN:VEVENT
DTSTART;TZID=Europe/Berlin:20260528T203000
DTEND;TZID=Europe/Berlin:20260528T210000
DTSTAMP:20260420T171449
CREATED:20260418T221248Z
LAST-MODIFIED:20260418T221248Z
UID:1180-1780000200-1780002000@daniel-seeger.de
SUMMARY:Vox Luminis - Festival de Saint-Denis
DESCRIPTION:Vox Luminis | Rachel Redmond\, soprano | Michael Spyres\, tenor | Artistic direction: Lionel Meunier
URL:https://daniel-seeger.de/termin/vox-luminis-festival-de-saint-denis/
LOCATION:St. Denis Paris\, 1 Rue de la Légion d'Honneur\, 93200 Saint-Denis\, France
END:VEVENT
BEGIN:VEVENT
DTSTART;TZID=Europe/Berlin:20260620T190000
DTEND;TZID=Europe/Berlin:20260620T203000
DTSTAMP:20260420T171449
CREATED:20260326T124620Z
LAST-MODIFIED:20260326T124620Z
UID:1175-1781982000-1781987400@daniel-seeger.de
SUMMARY:Johann Caspar Kerll — Missa cujus toni\, Exsultent justi & Justus ut palma
DESCRIPTION:Ensemble Delectus Cantionum
URL:https://daniel-seeger.de/termin/johann-caspar-kerll-missa-cujus-toni-exsultent-justi-justus-ut-palma/
LOCATION:Michaeliskirche Adorf/Vogtland\, Kirchplatz 8\, 08626 Adorf
END:VEVENT
BEGIN:VEVENT
DTSTART;TZID=Europe/Berlin:20260724T124500
DTEND;TZID=Europe/Berlin:20260724T133000
DTSTAMP:20260420T171449
CREATED:20260418T221912Z
LAST-MODIFIED:20260418T221935Z
UID:1183-1784897100-1784899800@daniel-seeger.de
SUMMARY:Lunchconcert Martinikerk Groningen – Aurora Festival
DESCRIPTION:Daniel Seeger – Orgel
URL:https://daniel-seeger.de/termin/lunchconcert-martinikerk-groningen/
LOCATION:Martinikerk Groningen\, Martinikerkhof 3\, 9712 JG Groningen
END:VEVENT
BEGIN:VEVENT
DTSTART;TZID=Europe/Berlin:20260805T210000
DTEND;TZID=Europe/Berlin:20260805T230000
DTSTAMP:20260420T171449
CREATED:20260418T222459Z
LAST-MODIFIED:20260418T222459Z
UID:1186-1785963600-1785970800@daniel-seeger.de
SUMMARY:Vox Luminis – Bachs Motetten
DESCRIPTION:Vox Luminis | Artistic direction: Lionel Meunier
URL:https://daniel-seeger.de/termin/vox-luminis-bachs-motetten/
LOCATION:Catedral-Basílica de la Asunción\, Mondoñedo\, Praza da Catedral\, 27740 Mondoñedo\, Lugo\, Spain
END:VEVENT
BEGIN:VEVENT
DTSTART;TZID=Europe/Berlin:20260902T170000
DTEND;TZID=Europe/Berlin:20260902T190000
DTSTAMP:20260420T171449
CREATED:20260418T222804Z
LAST-MODIFIED:20260418T222804Z
UID:1189-1788368400-1788375600@daniel-seeger.de
SUMMARY:Vox Luminis – Bachs frühe Kantaten
DESCRIPTION:Vox Luminis | Artistic direction: Lionel Meunier
URL:https://daniel-seeger.de/termin/vox-luminis-bachs-fruehe-kantaten/
LOCATION:Dreifaltigkeitskirche Speyer\, Große Himmelsgasse 4\, 67346 Speyer
END:VEVENT
BEGIN:VEVENT
DTSTART;TZID=Europe/Berlin:20260916T200000
DTEND;TZID=Europe/Berlin:20260916T210000
DTSTAMP:20260420T171449
CREATED:20260418T223102Z
LAST-MODIFIED:20260418T223102Z
UID:1192-1789588800-1789592400@daniel-seeger.de
SUMMARY:Orgelkonzert Nieuwe Kerk Groningen
DESCRIPTION:Daniel Seeger – Orgel
URL:https://daniel-seeger.de/termin/orgelkonzert-nieuwe-kerk-groningen/
LOCATION:Nieuwe Kerk Groningen\, Nieuwe Kerkhof 1\, 9712 PT Groningen\, Netherlands
END:VEVENT
BEGIN:VEVENT
DTSTART;VALUE=DATE:20260920
DTEND;VALUE=DATE:20260921
DTSTAMP:20260420T171449
CREATED:20260418T223820Z
LAST-MODIFIED:20260418T223820Z
UID:1198-1789862400-1789948799@daniel-seeger.de
SUMMARY:Orgelsommer Neustadt/ Weinstr. – Bachs Motetten
DESCRIPTION:Delectus Cantionum | Simon Reichert – Leitung
URL:https://daniel-seeger.de/termin/orgelsommer-neustadt-weinstr-bachs-motetten/
LOCATION:Stiftskirche Neustadt/Weinstraße\, Am Marktplatz 2\, 67433 Neustadt an der Weinstraße\, Germany
END:VEVENT
BEGIN:VEVENT
DTSTART;TZID=Europe/Berlin:20261031T180000
DTEND;TZID=Europe/Berlin:20261031T190000
DTSTAMP:20260420T171449
CREATED:20260418T223511Z
LAST-MODIFIED:20260418T223511Z
UID:1195-1793469600-1793473200@daniel-seeger.de
SUMMARY:Orgelkonzert zum Reformationstag
DESCRIPTION:Daniel Seeger – Orgel
URL:https://daniel-seeger.de/termin/orgelkonzert-zum-reformationstag/
LOCATION:Lutherkirche Hamburg-Wellingsbüttel\, Up de Worth 25\, 22391 Hamburg
END:VEVENT
END:VCALENDAR