BEGIN:VCALENDAR
VERSION:2.0
PRODID:-//Daniel Seeger - ECPv6.15.14//NONSGML v1.0//EN
CALSCALE:GREGORIAN
METHOD:PUBLISH
X-WR-CALNAME:Daniel Seeger
X-ORIGINAL-URL:https://daniel-seeger.de
X-WR-CALDESC:Veranstaltungen für Daniel Seeger
REFRESH-INTERVAL;VALUE=DURATION:PT1H
X-Robots-Tag:noindex
X-PUBLISHED-TTL:PT1H
BEGIN:VTIMEZONE
TZID:Europe/Berlin
BEGIN:DAYLIGHT
TZOFFSETFROM:+0100
TZOFFSETTO:+0200
TZNAME:CEST
DTSTART:20250330T010000
END:DAYLIGHT
BEGIN:STANDARD
TZOFFSETFROM:+0200
TZOFFSETTO:+0100
TZNAME:CET
DTSTART:20251026T010000
END:STANDARD
BEGIN:DAYLIGHT
TZOFFSETFROM:+0100
TZOFFSETTO:+0200
TZNAME:CEST
DTSTART:20260329T010000
END:DAYLIGHT
BEGIN:STANDARD
TZOFFSETFROM:+0200
TZOFFSETTO:+0100
TZNAME:CET
DTSTART:20261025T010000
END:STANDARD
BEGIN:DAYLIGHT
TZOFFSETFROM:+0100
TZOFFSETTO:+0200
TZNAME:CEST
DTSTART:20270328T010000
END:DAYLIGHT
BEGIN:STANDARD
TZOFFSETFROM:+0200
TZOFFSETTO:+0100
TZNAME:CET
DTSTART:20271031T010000
END:STANDARD
END:VTIMEZONE
BEGIN:VEVENT
DTSTART;TZID=Europe/Berlin:20260528T203000
DTEND;TZID=Europe/Berlin:20260528T210000
DTSTAMP:20260422T110645
CREATED:20260418T221248Z
LAST-MODIFIED:20260418T221248Z
UID:1180-1780000200-1780002000@daniel-seeger.de
SUMMARY:Vox Luminis - Festival de Saint-Denis
DESCRIPTION:Vox Luminis | Rachel Redmond\, soprano | Michael Spyres\, tenor | Artistic direction: Lionel Meunier
URL:https://daniel-seeger.de/termin/vox-luminis-festival-de-saint-denis/
LOCATION:St. Denis Paris\, 1 Rue de la Légion d'Honneur\, 93200 Saint-Denis\, France
END:VEVENT
END:VCALENDAR